BEGIN:VCALENDAR
VERSION:2.0
PRODID:-//Sangha Interser Valencia - ECPv5.14.2.1//NONSGML v1.0//EN
CALSCALE:GREGORIAN
METHOD:PUBLISH
X-WR-CALNAME:Sangha Interser Valencia
X-ORIGINAL-URL:https://interser-valencia.com
X-WR-CALDESC:Eventos para Sangha Interser Valencia
BEGIN:VTIMEZONE
TZID:UTC
BEGIN:STANDARD
TZOFFSETFROM:+0000
TZOFFSETTO:+0000
TZNAME:UTC
DTSTART:20250101T000000
END:STANDARD
END:VTIMEZONE
BEGIN:VEVENT
DTSTART;TZID=UTC:20250809T093000
DTEND;TZID=UTC:20250809T110000
DTSTAMP:20260421T090659
CREATED:20250621T095142Z
LAST-MODIFIED:20250621T095319Z
UID:1822-1754731800-1754737200@interser-valencia.com
SUMMARY:MEDITACIÓN CAMINANDO POR EL ANTIGUO CAUCE DEL RÍO TURIA
DESCRIPTION:Querida sangha\, \nLa tercera meditación caminando que os proponemos la realizaremos el sábado 9 de agosto\, esta vez por el antiguo cauce del río Turia\, de 9:30 h a 11:00 h de la mañana.Punto de encuentro: a las 9:20 h\, frente al restaurante «El Llit del Turia». \nComo en anteriores ocasiones\, caminaremos de manera consciente\, disfrutando de cada paso y sintiendo el descanso que surge cuando nuestra mente y nuestro cuerpo se encuentran en el momento presente. \nDespués\, nos sentaremos en círculo para practicar una breve meditación en silencio.A continuación\, dejaremos un espacio para la práctica del compartir.
URL:https://interser-valencia.com/evento/meditacion-caminando-por-el-antiguo-cauce-del-rio-turia/
LOCATION:Antiguo cauce del rio turia (en frente del restaurante El Llit del Turia)\, Passeig de l´Albereda 30\, 46023
ATTACH;FMTTYPE=image/jpeg:https://interser-valencia.com/wp-content/uploads/2025/05/IMG-20250413-WA0016.jpg
END:VEVENT
END:VCALENDAR