BEGIN:VCALENDAR
VERSION:2.0
PRODID:-//Sangha Interser Valencia - ECPv5.14.2.1//NONSGML v1.0//EN
CALSCALE:GREGORIAN
METHOD:PUBLISH
X-WR-CALNAME:Sangha Interser Valencia
X-ORIGINAL-URL:https://interser-valencia.com
X-WR-CALDESC:Eventos para Sangha Interser Valencia
BEGIN:VTIMEZONE
TZID:UTC
BEGIN:STANDARD
TZOFFSETFROM:+0000
TZOFFSETTO:+0000
TZNAME:UTC
DTSTART:20240101T000000
END:STANDARD
END:VTIMEZONE
BEGIN:VEVENT
DTSTART;TZID=UTC:20240623T100000
DTEND;TZID=UTC:20240623T180000
DTSTAMP:20260419T130218
CREATED:20240528T153635Z
LAST-MODIFIED:20240528T153909Z
UID:1470-1719136800-1719165600@interser-valencia.com
SUMMARY:Día de Plena Consciencia con tres  monásticas de Plum Village
DESCRIPTION:El próximo domingo 23 de junio tendremos la oportunidad de celebrar un Día de Plena Consciencia en Valencia\, con la presencia de tres monásticas de Plum Village. La jornada será en inglés\, con traducción al castellano. \nEl Día de Plena Consciencia\, tal y como se enseña y practica en la tradición del maestro Thich Nhat Hanh\, es una invitación a disfrutar de la atención consciente (mindfulness) en cada momento del día. Es una maravillosa oportunidad para cultivar la paz\, compartir la alegría de practicar en comunidad\, fortalecer nuestros lazos y facilitar una transformación personal más profunda. \nEl horario será de 10:00 a 18:00h. y tendrá lugar en el Centro Arrupe Jesuitas-Valencia\, en Gran Vía de Fernando el Católico\, 78. Es aconsejable llegar 15 minutos antes. \nPara las prácticas de meditar caminando y comer conscientemente\, nos desplazaremos con atención plena hasta los Jardines del Antiguo Cauce del Río Turia\, a pocos metros del Centro Arrupe. \nPara la comida\, puedes traer tu tupper vegetariano; compartiremos el momento y la comida.\nRecuerda traer tu propia esterilla y tu cojín. Si tus problemas de salud o tus condiciones físicas te impiden sentarte en el suelo\, dispondremos de una silla para ti. \nLa aportación sugerida es de un mínimo de 8 euros\, necesaria para poder cubrir los gastos de la jornada. \nDebido a la limitación de aforo\, es necesario realizar la inscripción. Puedes hacerlo en el siguiente enlace: \nhttps://forms.gle/vpEMeCMY8schNWYG8 \n«Un día de plena consciencia es un día en el que podemos vivir cada momento en paz\, sin ser arrastrados por el pasado ni preocupados por el futuro\, disfrutando profundamente de cada paso y de cada respiración». (Thich Nhat Hanh)
URL:https://interser-valencia.com/evento/dia-de-plena-consciencia-con-tres-monasticas-de-plum-village/
LOCATION:Centro Arrupe Jesuitas Valencia\, Gran Vía Fernando el Católico 78\, València\, València\, 46008\, España
ATTACH;FMTTYPE=image/jpeg:https://interser-valencia.com/wp-content/uploads/2024/05/sisters-instrumentos.jpg
END:VEVENT
END:VCALENDAR